BEGIN:VCALENDAR
VERSION:2.0
PRODID:-//ChamberMaster//Event Calendar 2.0//EN
METHOD:PUBLISH
X-PUBLISHED-TTL:P3D
REFRESH-INTERVAL:P3D
CALSCALE:GREGORIAN
BEGIN:VEVENT
DTSTART:20210323T200000Z
DTEND:20210323T210000Z
X-MICROSOFT-CDO-ALLDAYEVENT:FALSE
SUMMARY:Kids Painting! Easter Edition
DESCRIPTION:Students will enjoy adding decoration to a beautiful easter egg with acrylic paint on canvas. Ages 4-15 Instructor Rio Davies
X-ALT-DESC;FMTTYPE=text/html:Students will enjoy adding decoration to a beautiful easter egg with acrylic paint on canvas. Ages 4-15 Instructor Rio Davies
LOCATION:Colquitt County Arts Center 401 7th Avenue S.W. Moultrie\, GA 31768
UID:e.570.11333
SEQUENCE:3
DTSTAMP:20260424T124436Z
URL:http://business.moultriechamber.com/events/details/kids-painting-easter-edition-11333
END:VEVENT

END:VCALENDAR
