BEGIN:VCALENDAR
VERSION:2.0
PRODID:-//ChamberMaster//Event Calendar 2.0//EN
METHOD:PUBLISH
X-PUBLISHED-TTL:P3D
REFRESH-INTERVAL:P3D
CALSCALE:GREGORIAN
BEGIN:VEVENT
DTSTART:20240610T143000Z
DTEND:20240610T153000Z
X-MICROSOFT-CDO-ALLDAYEVENT:FALSE
SUMMARY:Ken Scott\, Magician
DESCRIPTION:Enjoy an amazing comedy magic show at the Library.
X-ALT-DESC;FMTTYPE=text/html:Enjoy an amazing comedy magic show at the Library.
LOCATION:Moultrie-Colquitt County Library 204 5th Ave\, SE\, Moultrie\, GA
UID:e.570.13283
SEQUENCE:3
DTSTAMP:20260422T115253Z
URL:http://business.moultriechamber.com/events/details/ken-scott-magician-13283
END:VEVENT

END:VCALENDAR
