BEGIN:VCALENDAR
VERSION:2.0
PRODID:-//ChamberMaster//Event Calendar 2.0//EN
METHOD:PUBLISH
X-PUBLISHED-TTL:P3D
REFRESH-INTERVAL:P3D
CALSCALE:GREGORIAN
BEGIN:VEVENT
DTSTART:20200713T130000Z
DTEND:20200717T170000Z
X-MICROSOFT-CDO-ALLDAYEVENT:FALSE
SUMMARY:Katie's Yoga Camp
DESCRIPTION:Each yoga class will incorporate music\, dance\, and fun to improve posture\, physical health\, self esteem\, and social skills. Children will learn fun poses to encourage physical strength and focus. Team building exercises will be a part of each class and will reinforce peacefulness between students. Students will be encouraged to play while learning listening and concentration skills easily translatable to the classroom. Ages 5   12 years old Each camp is 9:00 am   1:00 pm July 13th   17th $100 July 20th   24th $100 Bring your own yoga mat! Instructor Katie Aufenthie
X-ALT-DESC;FMTTYPE=text/html:Each yoga class will incorporate music\, dance\, and fun to improve posture\, physical health\, self esteem\, and social skills. Children will learn fun poses to encourage physical strength and focus. Team building exercises will be a part of each class and will reinforce peacefulness between students. Students will be encouraged to play while learning listening and concentration skills easily translatable to the classroom. Ages 5 &ndash\; 12 years old Each camp is 9:00 am &ndash\; 1:00 pm July 13th &ndash\; 17th $100 July 20th &ndash\; 24th $100 Bring your own yoga mat! Instructor Katie Aufenthie
LOCATION:Colquitt County Arts Center 401 7th Avenue S.W. Moultrie\, GA 31768
UID:e.570.11169
SEQUENCE:3
DTSTAMP:20260424T212345Z
URL:http://business.moultriechamber.com/events/details/katie-s-yoga-camp-11169
END:VEVENT

END:VCALENDAR
