BEGIN:VCALENDAR
VERSION:2.0
PRODID:-//ChamberMaster//Event Calendar 2.0//EN
METHOD:PUBLISH
X-PUBLISHED-TTL:P3D
REFRESH-INTERVAL:P3D
CALSCALE:GREGORIAN
BEGIN:VEVENT
DTSTART:20201221T140000Z
DTEND:20201223T180000Z
X-MICROSOFT-CDO-ALLDAYEVENT:FALSE
SUMMARY:Katie's Winter Art Camp
DESCRIPTION:Enjoy winter break with activities including music\, movement\, and art. Ages 6 - 10 Instructor Katie Aufenthie
X-ALT-DESC;FMTTYPE=text/html:Enjoy winter break with activities including music\, movement\, and art. Ages 6 - 10 Instructor Katie Aufenthie
LOCATION:Colquitt County Arts Center 401 7th Avenue S.W. Moultrie\, GA 31768
UID:e.570.11264
SEQUENCE:3
DTSTAMP:20260424T152129Z
URL:http://business.moultriechamber.com/events/details/katie-s-winter-art-camp-11264
END:VEVENT

END:VCALENDAR
