BEGIN:VCALENDAR
VERSION:2.0
PRODID:-//ChamberMaster//Event Calendar 2.0//EN
METHOD:PUBLISH
X-PUBLISHED-TTL:P3D
REFRESH-INTERVAL:P3D
CALSCALE:GREGORIAN
BEGIN:VEVENT
DTSTART:20190209T150000Z
DTEND:20190209T170000Z
X-MICROSOFT-CDO-ALLDAYEVENT:FALSE
SUMMARY:Kaleidoscope Kids Valentine Workshop
DESCRIPTION:Kaleidoscope Kids Valentine Workshop Saturday\, February 9th 10:00 am - 12:00 pm. Valentines\, Candy Making and More Kaleidoscope Kids members attend for free- Guests $10.
X-ALT-DESC;FMTTYPE=text/html:Kaleidoscope Kids Valentine Workshop Saturday\, February 9th 10:00 am - 12:00 pm. Valentines\, Candy Making and More Kaleidoscope Kids members attend for free- Guests $10.
LOCATION:Colquitt County Arts Center 401 7th Avenue S.W. Moultrie\, GA 31768
UID:e.570.9484
SEQUENCE:3
DTSTAMP:20260425T191802Z
URL:http://business.moultriechamber.com/events/details/kaleidoscope-kids-valentine-workshop-9484
END:VEVENT

END:VCALENDAR
