BEGIN:VCALENDAR
VERSION:2.0
PRODID:-//ChamberMaster//Event Calendar 2.0//EN
METHOD:PUBLISH
X-PUBLISHED-TTL:P3D
REFRESH-INTERVAL:P3D
CALSCALE:GREGORIAN
BEGIN:VEVENT
DTSTART:20181027T140000Z
DTEND:20181027T160000Z
X-MICROSOFT-CDO-ALLDAYEVENT:FALSE
SUMMARY:Kaleidoscope Kids Halloween Workshop
DESCRIPTION:Mask Making\, Salt Painted Spider Web\, Glowing Spiders in a Jar Kaleidoscope Kids members attend for free- Guests $10.
X-ALT-DESC;FMTTYPE=text/html:Mask Making\, Salt Painted Spider Web\, Glowing Spiders in a Jar Kaleidoscope Kids members attend for free- Guests $10.
LOCATION:Colquitt County Arts Center\, 401 7th Avenue S.W.\, Moultrie\, GA 31768
UID:e.570.9422
SEQUENCE:3
DTSTAMP:20260426T004503Z
URL:http://business.moultriechamber.com/events/details/kaleidoscope-kids-halloween-workshop-9422
END:VEVENT

END:VCALENDAR
