BEGIN:VCALENDAR
VERSION:2.0
PRODID:-//ChamberMaster//Event Calendar 2.0//EN
METHOD:PUBLISH
X-PUBLISHED-TTL:P3D
REFRESH-INTERVAL:P3D
CALSCALE:GREGORIAN
BEGIN:VEVENT
DTSTART:20180712T160000Z
DTEND:20180712T160000Z
X-MICROSOFT-CDO-ALLDAYEVENT:FALSE
SUMMARY:July Door Hanger
DESCRIPTION:July 12th l $30 10:30 am   12:30 pm 6:00 pm   8:00 pm Deadline to register is July 2nd Show your love for animals with a dog bone shaped sign that you can paint to match your personal style.
X-ALT-DESC;FMTTYPE=text/html:July 12th l $30 10:30 am &ndash\; 12:30 pm 6:00 pm &ndash\; 8:00 pm Deadline to register is July 2nd Show your love for animals with a dog bone shaped sign that you can paint to match your personal style.
LOCATION:Colquitt County Arts Center\, 401 7th Avenue S.W.\, Moultrie\, GA 31768
UID:e.570.9281
SEQUENCE:3
DTSTAMP:20260426T043340Z
URL:http://business.moultriechamber.com/events/details/july-door-hanger-9281
END:VEVENT

END:VCALENDAR
