BEGIN:VCALENDAR
VERSION:2.0
PRODID:-//ChamberMaster//Event Calendar 2.0//EN
METHOD:PUBLISH
X-PUBLISHED-TTL:P3D
REFRESH-INTERVAL:P3D
CALSCALE:GREGORIAN
BEGIN:VEVENT
DTSTART:20180825T130000Z
DTEND:20180825T180000Z
X-MICROSOFT-CDO-ALLDAYEVENT:FALSE
SUMMARY:JOB FAIR: Georgia Department of Corrections Valdosta
DESCRIPTION:Qualifications: Must be 18 years of age\, No felony Convictions\, US Citizenship\, High School Diploma
X-ALT-DESC;FMTTYPE=text/html:Qualifications: Must be 18 years of age\, No felony Convictions\, US Citizenship\, High School Diploma
LOCATION:Moultrie-Colquitt County Library\, 225 South Main Street (temp location)
UID:e.570.9385
SEQUENCE:3
DTSTAMP:20260426T032839Z
URL:http://business.moultriechamber.com/events/details/job-fair-georgia-department-of-corrections-valdosta-9385
END:VEVENT

END:VCALENDAR
