BEGIN:VCALENDAR
VERSION:2.0
PRODID:-//ChamberMaster//Event Calendar 2.0//EN
METHOD:PUBLISH
X-PUBLISHED-TTL:P3D
REFRESH-INTERVAL:P3D
CALSCALE:GREGORIAN
BEGIN:VEVENT
DTSTART:20220510T140000Z
DTEND:20220510T150000Z
X-MICROSOFT-CDO-ALLDAYEVENT:FALSE
SUMMARY:JJ Cocomelon
DESCRIPTION:JJ from Cocomelon is coming to Main Street to Park with the MCCPRA!
X-ALT-DESC;FMTTYPE=text/html:JJ from Cocomelon is coming to Main Street to Park with the MCCPRA!
LOCATION:Main Street Park
UID:e.570.12930
SEQUENCE:3
DTSTAMP:20260423T181814Z
URL:http://business.moultriechamber.com/events/details/jj-cocomelon-05-10-2022-12930
END:VEVENT

END:VCALENDAR
