BEGIN:VCALENDAR
VERSION:2.0
PRODID:-//ChamberMaster//Event Calendar 2.0//EN
METHOD:PUBLISH
X-PUBLISHED-TTL:P3D
REFRESH-INTERVAL:P3D
CALSCALE:GREGORIAN
BEGIN:VEVENT
DTSTART:20180726T220000Z
DTEND:20180727T000000Z
X-MICROSOFT-CDO-ALLDAYEVENT:FALSE
SUMMARY:Jewelry Assemblage
DESCRIPTION:Gather up your old broken jewelry and chains and create a whole new beautiful piece.
X-ALT-DESC;FMTTYPE=text/html:Gather up your old broken jewelry and chains and create a whole new beautiful piece.
LOCATION:Colquitt County Arts Center
UID:e.570.9303
SEQUENCE:3
DTSTAMP:20260426T042642Z
URL:http://business.moultriechamber.com/events/details/jewelry-assemblage-9303
END:VEVENT

END:VCALENDAR
