BEGIN:VCALENDAR
VERSION:2.0
PRODID:-//ChamberMaster//Event Calendar 2.0//EN
METHOD:PUBLISH
X-PUBLISHED-TTL:P3D
REFRESH-INTERVAL:P3D
CALSCALE:GREGORIAN
BEGIN:VEVENT
DTSTART:20180727T230000Z
DTEND:20180729T010000Z
X-MICROSOFT-CDO-ALLDAYEVENT:FALSE
SUMMARY:Jekyll & Hyde-The Musical
DESCRIPTION:The epic struggle between good and evil comes to life on stage in the musical phenomenon\, JEKYLL & HYDE. Based on the classic story by Robert Louis Stevenson and featuring a thrilling score of pop rock hits from multi-Grammy- and Tony-nominated Frank Wildhorn and double-Oscar- and Grammy-winning Leslie Bricusse\, Jekyll & Hyde has mesmerized audiences the world over.
X-ALT-DESC;FMTTYPE=text/html:The epic struggle between good and evil comes to life on stage in the musical phenomenon\, JEKYLL &amp\; HYDE. Based on the classic story by Robert Louis Stevenson and featuring a thrilling score of pop rock hits from multi-Grammy- and Tony-nominated Frank Wildhorn and double-Oscar- and Grammy-winning Leslie Bricusse\, Jekyll &amp\; Hyde has mesmerized audiences the world over.
LOCATION:Colquitt County Arts Center
UID:e.570.9300
SEQUENCE:3
DTSTAMP:20260426T042824Z
URL:http://business.moultriechamber.com/events/details/jekyll-hyde-the-musical-9300
END:VEVENT

END:VCALENDAR
