BEGIN:VCALENDAR
VERSION:2.0
PRODID:-//ChamberMaster//Event Calendar 2.0//EN
METHOD:PUBLISH
X-PUBLISHED-TTL:P3D
REFRESH-INTERVAL:P3D
CALSCALE:GREGORIAN
BEGIN:VEVENT
DTSTART:20180810T230000Z
DTEND:20180813T010000Z
X-MICROSOFT-CDO-ALLDAYEVENT:FALSE
SUMMARY:Jays Jam Session Live
DESCRIPTION:Enjoy music from the 60's 70's and 80's performed by local musicians and vocalists. Hear the hist of Mamas and Paps\, Simon and Garfunkel\, The Beatles\, Elvis\, Cher\, Cyndi Lauper \, Tina Turner\, The Supremes and more. Based on WMTM local radio Cruisin '94 Jays Jam Session.
X-ALT-DESC;FMTTYPE=text/html:Enjoy music from the 60&#39\;s 70&#39\;s and 80&#39\;s performed by local musicians and vocalists. Hear the hist of Mamas and Paps\, Simon and Garfunkel\, The Beatles\, Elvis\, Cher\, Cyndi Lauper \, Tina Turner\, The Supremes and more. Based on WMTM local radio Cruisin &#39\;94 Jays Jam Session.
LOCATION:Colquitt County Arts Cenetr
UID:e.570.9302
SEQUENCE:3
DTSTAMP:20260426T032151Z
URL:http://business.moultriechamber.com/events/details/jays-jam-session-live-9302
END:VEVENT

END:VCALENDAR
