BEGIN:VCALENDAR
VERSION:2.0
PRODID:-//ChamberMaster//Event Calendar 2.0//EN
METHOD:PUBLISH
X-PUBLISHED-TTL:P3D
REFRESH-INTERVAL:P3D
CALSCALE:GREGORIAN
BEGIN:VEVENT
DTSTART:20180907T150000Z
DTEND:20180907T160000Z
X-MICROSOFT-CDO-ALLDAYEVENT:FALSE
SUMMARY:Japanese Story Teller Yasu Ishida
DESCRIPTION:traditional Japanese theatre\, music\, origami\, magic\, and storytelling.
X-ALT-DESC;FMTTYPE=text/html:traditional Japanese theatre\, music\, origami\, magic\, and storytelling.
LOCATION:Main Street Park\, 1220 S Main St\, Moultrie\, GA
UID:e.570.9395
SEQUENCE:3
DTSTAMP:20260426T021257Z
URL:http://business.moultriechamber.com/events/details/japanese-story-teller-yasu-ishida-9395
END:VEVENT

END:VCALENDAR
