BEGIN:VCALENDAR
VERSION:2.0
PRODID:-//ChamberMaster//Event Calendar 2.0//EN
METHOD:PUBLISH
X-PUBLISHED-TTL:P3D
REFRESH-INTERVAL:P3D
CALSCALE:GREGORIAN
BEGIN:VEVENT
DTSTART:20210319T200000Z
DTEND:20210319T210000Z
X-MICROSOFT-CDO-ALLDAYEVENT:FALSE
SUMMARY:"In the Reeds" Black Paper Workshop
DESCRIPTION:White Charcoal on Black Paper Ages 15+ Using white charcoal\, you will draw a detailed picture of water reeds on black paper. The technique makes the image stand out in a unique way. Instructor Rio Davies
X-ALT-DESC;FMTTYPE=text/html:White Charcoal on Black Paper Ages 15+ Using white charcoal\, you will draw a detailed picture of water reeds on black paper. The technique makes the image stand out in a unique way. Instructor Rio Davies
LOCATION:Colquitt County Arts Center 401 7th Avenue S.W. Moultrie\, GA 31768
UID:e.570.11331
SEQUENCE:3
DTSTAMP:20260424T113940Z
URL:http://business.moultriechamber.com/events/details/in-the-reeds-black-paper-workshop-11331
END:VEVENT

END:VCALENDAR
