BEGIN:VCALENDAR
VERSION:2.0
PRODID:-//ChamberMaster//Event Calendar 2.0//EN
METHOD:PUBLISH
X-PUBLISHED-TTL:P3D
REFRESH-INTERVAL:P3D
CALSCALE:GREGORIAN
BEGIN:VEVENT
DTSTART:20210520T200000Z
DTEND:20210520T210000Z
X-MICROSOFT-CDO-ALLDAYEVENT:FALSE
SUMMARY:Illustration Workshop
DESCRIPTION:Explore simple and fun ways of creating imagery that is whimsical and tells a story. Instructor Rio Davies All ages
X-ALT-DESC;FMTTYPE=text/html:Explore simple and fun ways of creating imagery that is whimsical and tells a story. Instructor Rio Davies All ages
LOCATION:Colquitt County Arts Center 401 7th Avenue S.W. Moultrie\, GA 31768
UID:e.570.11397
SEQUENCE:3
DTSTAMP:20260424T090436Z
URL:http://business.moultriechamber.com/events/details/illustration-workshop-11397
END:VEVENT

END:VCALENDAR
