BEGIN:VCALENDAR
VERSION:2.0
PRODID:-//ChamberMaster//Event Calendar 2.0//EN
METHOD:PUBLISH
X-PUBLISHED-TTL:P3D
REFRESH-INTERVAL:P3D
CALSCALE:GREGORIAN
BEGIN:VEVENT
DTSTART:20220216T220000Z
DTEND:20220216T230000Z
X-MICROSOFT-CDO-ALLDAYEVENT:FALSE
SUMMARY:Hufstetler Building Dedication
DESCRIPTION:Colquitt Regional Medical Foundation Dedication & Ribbon Cutting Hufstetler Building
X-ALT-DESC;FMTTYPE=text/html:Colquitt Regional Medical Foundation Dedication &amp\; Ribbon Cutting Hufstetler Building
LOCATION:1 Sweet Bay Court Moultrie\, Georgia
UID:e.570.12002
SEQUENCE:3
DTSTAMP:20260423T215004Z
URL:http://business.moultriechamber.com/events/details/hufstetler-building-dedication-12002
END:VEVENT

END:VCALENDAR
