BEGIN:VCALENDAR
VERSION:2.0
PRODID:-//ChamberMaster//Event Calendar 2.0//EN
METHOD:PUBLISH
X-PUBLISHED-TTL:P3D
REFRESH-INTERVAL:P3D
CALSCALE:GREGORIAN
BEGIN:VEVENT
DTSTART:20201031T140000Z
DTEND:20201031T160000Z
X-MICROSOFT-CDO-ALLDAYEVENT:FALSE
SUMMARY:Howl O Ween Wag N Walk
DESCRIPTION:Bring your fur babies in their best costumes and let them strut their stuff at Main Street Park on Oct. 31\, 2020 at 10am. Their will be prizes for the funniest\, most creative\, best behaved and Owner/Pet look alike. Entry Fee $5 Per dog and handler * All handlers must be at least 16 years of age. *Donations are greatly appreciated\, 100% of proceeds will go towards MCCPRA's dream of building Moultrie's first Bark Park. Rules: Only open to dogs- no other pets allowed No dogs in heat Dogs must be up to date on vaccines (please bring a copy) Handler must remain onsite at all times Dog must be people and animal friendly Dog must be leashed (max 6 ft. long) at all times Handlers will be responsible for proper clean up and disposal of pet waste All children must be accompanied by an adult at least 18 years of age Dogs under 4 months old are not allowed Dogs must be clean and in good health MCCPRA reserve the right to refuse entry or excuse aggressive dogs from the park
X-ALT-DESC;FMTTYPE=text/html:Bring your fur babies in their best costumes and let them strut their stuff at Main Street Park on Oct. 31\, 2020 at 10am. Their will be prizes for the funniest\, most creative\, best behaved and Owner/Pet look alike. Entry Fee $5 Per dog and handler * All handlers must be at least 16 years of age. *Donations are greatly appreciated\, 100% of proceeds will go towards MCCPRA&rsquo\;s dream of building Moultrie&#39\;s first Bark Park. Rules: Only open to dogs- no other pets allowed No dogs in heat Dogs must be up to date on vaccines (please bring a copy) Handler must remain onsite at all times Dog must be people and animal friendly Dog must be leashed (max 6 ft. long) at all times Handlers will be responsible for proper clean up and disposal of pet waste All children must be accompanied by an adult at least 18 years of age Dogs under 4 months old are not allowed Dogs must be clean and in good health MCCPRA reserve the right to refuse entry or excuse aggressive dogs from the park
LOCATION:Main Street Park
UID:e.570.11186
SEQUENCE:3
DTSTAMP:20260424T175116Z
URL:http://business.moultriechamber.com/events/details/howl-o-ween-wag-n-walk-11186
END:VEVENT

END:VCALENDAR
