BEGIN:VCALENDAR
VERSION:2.0
PRODID:-//ChamberMaster//Event Calendar 2.0//EN
METHOD:PUBLISH
X-PUBLISHED-TTL:P3D
REFRESH-INTERVAL:P3D
CALSCALE:GREGORIAN
BEGIN:VEVENT
DTSTART;VALUE=DATE:20201107
DTEND;VALUE=DATE:20201108
TRANSP:TRANSPARENT
X-MICROSOFT-CDO-ALLDAYEVENT:TRUE
SUMMARY:Hope House/ Federated Guild Concert
DESCRIPTION:More information to come.
X-ALT-DESC;FMTTYPE=text/html:More information to come.
LOCATION:TBA
UID:e.570.11151
SEQUENCE:3
DTSTAMP:20260424T165329Z
URL:http://business.moultriechamber.com/events/details/hope-house-federated-guild-concert-11151
END:VEVENT

END:VCALENDAR
