BEGIN:VCALENDAR
VERSION:2.0
PRODID:-//ChamberMaster//Event Calendar 2.0//EN
METHOD:PUBLISH
X-PUBLISHED-TTL:P3D
REFRESH-INTERVAL:P3D
CALSCALE:GREGORIAN
BEGIN:VEVENT
DTSTART:20210814T000000Z
DTEND:20210817T020000Z
X-MICROSOFT-CDO-ALLDAYEVENT:FALSE
SUMMARY:Honky Tonk Angels
DESCRIPTION:Arts Center Theater presents Honky Tonk Angels. Featuring the music of Dolly PArton\, Loretta Lynn and Tammy Wynette.
X-ALT-DESC;FMTTYPE=text/html:Arts Center Theater presents Honky Tonk Angels. Featuring the music of Dolly PArton\, Loretta Lynn and Tammy Wynette.
LOCATION:Colquitt County Arts Cenetr Wright Auditorium
UID:e.570.11262
SEQUENCE:3
DTSTAMP:20260424T054849Z
URL:http://business.moultriechamber.com/events/details/honky-tonk-angels-11262
END:VEVENT

END:VCALENDAR
