BEGIN:VCALENDAR
VERSION:2.0
PRODID:-//ChamberMaster//Event Calendar 2.0//EN
METHOD:PUBLISH
X-PUBLISHED-TTL:P3D
REFRESH-INTERVAL:P3D
CALSCALE:GREGORIAN
BEGIN:VEVENT
DTSTART:20201112T153000Z
DTEND:20201112T170000Z
X-MICROSOFT-CDO-ALLDAYEVENT:FALSE
SUMMARY:Holiday Wreath Demonstration
DESCRIPTION:Ages 13+ Instructor Kathy Nelson Learn fun and creative ways to make traditional\, live\, and forever wreaths. A fun bonus:  3 participants names will be drawn to win the 3 wreaths created during the demonstration. *Images are examples and may not reflect the final pieces created in the demo.
X-ALT-DESC;FMTTYPE=text/html:Ages 13+ Instructor Kathy Nelson Learn fun and creative ways to make traditional\, live\, and forever wreaths. A fun bonus:&nbsp\; 3 participants names will be drawn to win the 3 wreaths created during the demonstration. *Images are examples and may not reflect the final pieces created in the demo.
LOCATION:Colquitt County Arts Center 401 7th Avenue S.W. Moultrie\, GA 31768
UID:e.570.11207
SEQUENCE:3
DTSTAMP:20260424T164253Z
URL:http://business.moultriechamber.com/events/details/holiday-wreath-demonstration-11207
END:VEVENT

END:VCALENDAR
