BEGIN:VCALENDAR
VERSION:2.0
PRODID:-//ChamberMaster//Event Calendar 2.0//EN
METHOD:PUBLISH
X-PUBLISHED-TTL:P3D
REFRESH-INTERVAL:P3D
CALSCALE:GREGORIAN
BEGIN:VEVENT
DTSTART:20181115T230000Z
DTEND:20181116T020000Z
X-MICROSOFT-CDO-ALLDAYEVENT:FALSE
SUMMARY:Holiday Gala
DESCRIPTION:Celebrate the Season with a special preview of the Holiday Shoppe featuring works of local artists\, delicious eats and drinks and a concert by renowned A Capella group Eclipse 6.
X-ALT-DESC;FMTTYPE=text/html:Celebrate the Season with a special preview of the Holiday Shoppe featuring works of local artists\, delicious eats and drinks and a concert by renowned A Capella group Eclipse 6.
LOCATION:Colquitt County Arts Center
UID:e.570.9213
SEQUENCE:3
DTSTAMP:20260425T233017Z
URL:http://business.moultriechamber.com/events/details/holiday-gala-11-15-2018-9213
END:VEVENT

END:VCALENDAR
