BEGIN:VCALENDAR
VERSION:2.0
PRODID:-//ChamberMaster//Event Calendar 2.0//EN
METHOD:PUBLISH
X-PUBLISHED-TTL:P3D
REFRESH-INTERVAL:P3D
CALSCALE:GREGORIAN
BEGIN:VEVENT
DTSTART:20190215T000000Z
DTEND:20190215T013000Z
X-MICROSOFT-CDO-ALLDAYEVENT:FALSE
SUMMARY:Heart Strings - A Wine and Cheese Valentine Event
DESCRIPTION:Heart Strings - A Wine and Cheese Valentine Event Thursday\, February 14th at 7:00 pm Tickets $15 Sip wine with your soul mate or best friends during a harp performance by the talented Calista Anne Koch. Learn more about the artist at https://www.maconharpist.com/
X-ALT-DESC;FMTTYPE=text/html:Heart Strings - A Wine and Cheese Valentine Event Thursday\, February 14th at 7:00 pm Tickets $15 Sip wine with your soul mate or best friends during a harp performance by the talented Calista Anne Koch. Learn more about the artist at https://www.maconharpist.com/
LOCATION:Colquitt County Arts Center 401 7th Avenue S.W. Moultrie\, GA 31768
UID:e.570.9485
SEQUENCE:3
DTSTAMP:20260425T190847Z
URL:http://business.moultriechamber.com/events/details/heart-strings-a-wine-and-cheese-valentine-event-9485
END:VEVENT

END:VCALENDAR
