BEGIN:VCALENDAR
VERSION:2.0
PRODID:-//ChamberMaster//Event Calendar 2.0//EN
METHOD:PUBLISH
X-PUBLISHED-TTL:P3D
REFRESH-INTERVAL:P3D
CALSCALE:GREGORIAN
BEGIN:VEVENT
DTSTART:20200625T140000Z
DTEND:20200828T213000Z
X-MICROSOFT-CDO-ALLDAYEVENT:FALSE
SUMMARY:Healing Streams Oil Painting Art Exhibit
DESCRIPTION:Healing Streams Myra Hurst June 25th   August 28th Traverse Gallery   Oil Paintings Myra Hurst is a local Omega\, Georgia artist and has been painting for over 20 years. She prefers working with oils but also works well with pastels\, acrylic paints\, and ink. Her subject matter consists of old houses\, flowers and animals of all sorts. "Painting is what the Lord prepared me for later in life\, when the lord calls he prepares us! I am so thankful to be apart of his callings and gifting. To God be the Glory."   Myra Hurst
X-ALT-DESC;FMTTYPE=text/html:Healing Streams Myra Hurst June 25th &ndash\; August 28th Traverse Gallery &ndash\; Oil Paintings Myra Hurst is a local Omega\, Georgia artist and has been painting for over 20 years. She prefers working with oils but also works well with pastels\, acrylic paints\, and ink. Her subject matter consists of old houses\, flowers and animals of all sorts. &ldquo\;Painting is what the Lord prepared me for later in life\, when the lord calls he prepares us! I am so thankful to be apart of his callings and gifting. To God be the Glory.&rdquo\; &ndash\; Myra Hurst
LOCATION:Colquitt County Arts Center 401 7th Avenue S.W. Moultrie\, GA 31768
UID:e.570.11172
SEQUENCE:3
DTSTAMP:20260424T212506Z
URL:http://business.moultriechamber.com/events/details/healing-streams-oil-painting-art-exhibit-11172
END:VEVENT

END:VCALENDAR
