BEGIN:VCALENDAR
VERSION:2.0
PRODID:-//ChamberMaster//Event Calendar 2.0//EN
METHOD:PUBLISH
X-PUBLISHED-TTL:P3D
REFRESH-INTERVAL:P3D
CALSCALE:GREGORIAN
BEGIN:VEVENT
DTSTART:20220213T000000Z
DTEND:20220213T040000Z
X-MICROSOFT-CDO-ALLDAYEVENT:FALSE
SUMMARY:Happy Hearts Hop
DESCRIPTION:Community dance for all ages with all eras and genera of music for group dance.
X-ALT-DESC;FMTTYPE=text/html:Community dance for all ages with all eras and genera of music for group dance.
LOCATION:2061 W McDonald St
UID:e.570.11976
SEQUENCE:3
DTSTAMP:20260423T215152Z
URL:http://business.moultriechamber.com/events/details/happy-hearts-hop-11976
END:VEVENT

END:VCALENDAR
