BEGIN:VCALENDAR
VERSION:2.0
PRODID:-//ChamberMaster//Event Calendar 2.0//EN
METHOD:PUBLISH
X-PUBLISHED-TTL:P3D
REFRESH-INTERVAL:P3D
CALSCALE:GREGORIAN
BEGIN:VEVENT
DTSTART:20190125T150000Z
DTEND:20190222T223000Z
X-MICROSOFT-CDO-ALLDAYEVENT:FALSE
SUMMARY:Hanna Friedlander Photography Exhibit
DESCRIPTION:Hanna Friedlander's collection of photographs from her University of Georgia Lamar Dodd School of the Arts Senior project will be showcased in the Traverse gallery through February 22nd.
X-ALT-DESC;FMTTYPE=text/html:Hanna Friedlander&rsquo\;s collection of photographs from her University of Georgia Lamar Dodd School of the Arts Senior project will be showcased in the Traverse gallery through February 22nd.
LOCATION:Colquitt County Arts Center 401 7th Avenue S.W. Moultrie\, GA 31768
UID:e.570.9479
SEQUENCE:3
DTSTAMP:20260425T192711Z
URL:http://business.moultriechamber.com/events/details/hanna-friedlander-photography-exhibit-9479
END:VEVENT

END:VCALENDAR
