BEGIN:VCALENDAR
VERSION:2.0
PRODID:-//ChamberMaster//Event Calendar 2.0//EN
METHOD:PUBLISH
X-PUBLISHED-TTL:P3D
REFRESH-INTERVAL:P3D
CALSCALE:GREGORIAN
BEGIN:VEVENT
DTSTART:20201212T190000Z
DTEND:20201212T210000Z
X-MICROSOFT-CDO-ALLDAYEVENT:FALSE
SUMMARY:Handprint Ornaments
DESCRIPTION:Bring your little ones and choose your design to create a lasting memory of your child's handprint. Instructed by Graceful Designs Ornaments will be finished and available for pick up within one week. Register Online: https://colquittcountyarts.com/monthly-workshop-registration/
X-ALT-DESC;FMTTYPE=text/html:Bring your little ones and choose your design to create a lasting memory of your child&rsquo\;s handprint. Instructed by Graceful Designs Ornaments will be finished and available for pick up within one week. Register Online: https://colquittcountyarts.com/monthly-workshop-registration/
LOCATION:Colquitt County Arts Center 401 7th Avenue S.W. Moultrie\, GA 31768
UID:e.570.11266
SEQUENCE:3
DTSTAMP:20260424T152903Z
URL:http://business.moultriechamber.com/events/details/handprint-ornaments-11266
END:VEVENT

END:VCALENDAR
