BEGIN:VCALENDAR
VERSION:2.0
PRODID:-//ChamberMaster//Event Calendar 2.0//EN
METHOD:PUBLISH
X-PUBLISHED-TTL:P3D
REFRESH-INTERVAL:P3D
CALSCALE:GREGORIAN
BEGIN:VEVENT
DTSTART:20220312T153000Z
DTEND:20220312T180000Z
X-MICROSOFT-CDO-ALLDAYEVENT:FALSE
SUMMARY:Hand & Foot at Library
DESCRIPTION:2nd Saturday Hand & Foot Card Game @ the Library Dust off your game playing skills and join us at the library for fun and laugher on while playing cards. Hand and Foot is a card game played between two-to-six players. It started in North America and is related to Canasta\, in which each player is dealt two sets of cards   the hand\, which is played first\, and the foot\, which is played when the hand has been used up. Don't know how to play? We'll teach you. Our main objective will be to have a good time and make new friends.
X-ALT-DESC;FMTTYPE=text/html:2nd Saturday Hand &amp\; Foot Card Game @ the Library Dust off your game playing skills and join us at the library for fun and laugher on while playing cards. Hand and Foot is a card game played between two-to-six players. It started in North America and is related to Canasta\, in which each player is dealt two sets of cards &ndash\; the hand\, which is played first\, and the foot\, which is played when the hand has been used up. Don&rsquo\;t know how to play? We&rsquo\;ll teach you. Our main objective will be to have a good time and make new friends.
LOCATION:Moultrie-Colquitt Library System 504 5th Street\, SE Moultrie\, Ga.
UID:e.570.11995
SEQUENCE:3
DTSTAMP:20260423T210329Z
URL:http://business.moultriechamber.com/events/details/hand-foot-at-library-11995
END:VEVENT

END:VCALENDAR
