BEGIN:VCALENDAR
VERSION:2.0
PRODID:-//ChamberMaster//Event Calendar 2.0//EN
METHOD:PUBLISH
X-PUBLISHED-TTL:P3D
REFRESH-INTERVAL:P3D
CALSCALE:GREGORIAN
BEGIN:VEVENT
DTSTART:20210223T220000Z
DTEND:20210223T230000Z
X-MICROSOFT-CDO-ALLDAYEVENT:FALSE
SUMMARY:Haiku Workshop
DESCRIPTION:Bring your favorite haiku or write one in this workshop and create a piece of art. Learn how to brush script and how to paint beautiful bamboo to frame your poetry. This piece will be handpainted with watercolor all supplies included. Instructor Rio Davies Tuesday\, February 23rd 5:00 pm   6:00 pm All Ages $25 all supplies provided
X-ALT-DESC;FMTTYPE=text/html:Bring your favorite haiku or write one in this workshop and create a piece of art. Learn how to brush script and how to paint beautiful bamboo to frame your poetry. This piece will be handpainted with watercolor all supplies included. Instructor Rio Davies Tuesday\, February 23rd 5:00 pm &ndash\; 6:00 pm All Ages $25 all supplies provided
LOCATION:Colquitt County Arts Center 401 7th Avenue S.W. Moultrie\, GA 31768
UID:e.570.11288
SEQUENCE:3
DTSTAMP:20260424T124102Z
URL:http://business.moultriechamber.com/events/details/haiku-workshop-11288
END:VEVENT

END:VCALENDAR
