BEGIN:VCALENDAR
VERSION:2.0
PRODID:-//ChamberMaster//Event Calendar 2.0//EN
METHOD:PUBLISH
X-PUBLISHED-TTL:P3D
REFRESH-INTERVAL:P3D
CALSCALE:GREGORIAN
BEGIN:VEVENT
DTSTART;VALUE=DATE:20210726
DTEND;VALUE=DATE:20210730
TRANSP:TRANSPARENT
X-MICROSOFT-CDO-ALLDAYEVENT:TRUE
SUMMARY:Gymnastics Go For the Gold
DESCRIPTION:Boys and girls ages 4 & up!\n\nGo for Gold camp will teach gymnasts the basics of Olympic Gymnastics Meets. Kids will participate in bars\, beam\, & vault while also learning how to improve physical development\, promote positive social skills\, and healthy exercise in a fun and exciting environment\n\n\n\nSee our website for additional information! www.moultrieymca.org
X-ALT-DESC;FMTTYPE=text/html:<span style="color:#000000"><span style="font-family:arial\,helvetica\,sans-serif"><span style="font-size:14px"><span style="background-color:rgb(255\, 255\, 255)">Boys and girls ages 4 &amp\; up!<br />\nGo for Gold camp will teach gymnasts the basics of Olympic Gymnastics Meets. Kids will participate in bars\, beam\, &amp\; vault while also learning how to improve physical development\, promote positive social skills\, and healthy exercise in a fun and exciting environment<br />\n<br />\nSee our website for additional information! www.moultrieymca.org&nbsp\;</span></span></span></span>
LOCATION:Moultrie YMCA
UID:e.570.11465
SEQUENCE:3
DTSTAMP:20260424T065643Z
URL:http://business.moultriechamber.com/events/details/gymnastics-go-for-the-gold-11465
END:VEVENT

END:VCALENDAR
