BEGIN:VCALENDAR
VERSION:2.0
PRODID:-//ChamberMaster//Event Calendar 2.0//EN
METHOD:PUBLISH
X-PUBLISHED-TTL:P3D
REFRESH-INTERVAL:P3D
CALSCALE:GREGORIAN
BEGIN:VEVENT
DTSTART;VALUE=DATE:20210614
DTEND;VALUE=DATE:20210618
TRANSP:TRANSPARENT
X-MICROSOFT-CDO-ALLDAYEVENT:TRUE
SUMMARY:Gymnastics Camp Courage at the YMCA
DESCRIPTION:Exciting gymnastics camp for kids ages 4 & up. Boys and girls are welcome! While participating in rope swinging\, trampoline jumping & pit flipping\, campers will get a sense of personal achievement. This is a great opportunity to make new friends\, and create everlasting memories.\n\n\n\nPlease see www.moultrieymca.org for more information regarding prices and more!
X-ALT-DESC;FMTTYPE=text/html:<span style="font-size:12px">Exciting gymnastics camp for kids ages 4 &amp\; up. Boys and girls are welcome!</span>&nbsp\;<span style="font-size:12px"><span style="color:#000000"><span style="background-color:rgb(255\, 255\, 255)\; font-family:open sans">While participating in rope swinging\, trampoline jumping &amp\; pit flipping\, campers will get a sense of personal achievement. This is a great opportunity to make</span><span style="background-color:rgb(255\, 255\, 255)\; font-family:open sans">&nbsp\;</span><span style="background-color:rgb(255\, 255\, 255)\; font-family:open sans">new friends\, and create everlasting memories.<br />\n<br />\nPlease see www.moultrieymca.org for more information regarding prices and more!&nbsp\;</span></span></span>
LOCATION:The Moultrie YMCA
UID:e.570.11461
SEQUENCE:3
DTSTAMP:20260424T075743Z
URL:http://business.moultriechamber.com/events/details/gymnastics-camp-courage-at-the-ymca-11461
END:VEVENT

END:VCALENDAR
