BEGIN:VCALENDAR
VERSION:2.0
PRODID:-//ChamberMaster//Event Calendar 2.0//EN
METHOD:PUBLISH
X-PUBLISHED-TTL:P3D
REFRESH-INTERVAL:P3D
CALSCALE:GREGORIAN
BEGIN:VEVENT
DTSTART:20201117T220000Z
DTEND:20201118T001000Z
X-MICROSOFT-CDO-ALLDAYEVENT:FALSE
SUMMARY:Guided Painting: Scarecrow Salutations
DESCRIPTION:Scarecrow Salutations Tuesday\, November 17th 5:00 pm   7:10 pm $35 all supplies provided Greetings from the scarecrow! This beautiful scarecrow takes a few steps to create therefore the class will be about 30 minutes longer than usual. This painting will give you experience with just about every technique used in acrylic painting. Also the face and clothing and scenery make for a very customizable design! Sign Up Online: https://colquittcountyarts.com/monthly-workshop-registration/
X-ALT-DESC;FMTTYPE=text/html:Scarecrow Salutations Tuesday\, November 17th 5:00 pm &ndash\; 7:10 pm $35 all supplies provided Greetings from the scarecrow! This beautiful scarecrow takes a few steps to create therefore the class will be about 30 minutes longer than usual. This painting will give you experience with just about every technique used in acrylic painting. Also the face and clothing and scenery make for a very customizable design! Sign Up Online: https://colquittcountyarts.com/monthly-workshop-registration/
LOCATION:Colquitt County Arts Center 401 7th Avenue S.W. Moultrie\, GA 31768
UID:e.570.11226
SEQUENCE:3
DTSTAMP:20260424T164345Z
URL:http://business.moultriechamber.com/events/details/guided-painting-scarecrow-salutations-11226
END:VEVENT

END:VCALENDAR
