BEGIN:VCALENDAR
VERSION:2.0
PRODID:-//ChamberMaster//Event Calendar 2.0//EN
METHOD:PUBLISH
X-PUBLISHED-TTL:P3D
REFRESH-INTERVAL:P3D
CALSCALE:GREGORIAN
BEGIN:VEVENT
DTSTART:20201103T220000Z
DTEND:20201103T234500Z
X-MICROSOFT-CDO-ALLDAYEVENT:FALSE
SUMMARY:Guided Painting Night Owl
DESCRIPTION:All Ages This one is a hoot! This is a very contrasting illustrative style painting. Created with simple black-and-white The focus of this painting is folk art and illustration. Acrylic paint has many uses from fine art masterpieces to fort craft-style images like this. This painting goes out to all my fellow night owls! Sign up online at https://colquittcountyarts.com/monthly-workshop-registration/
X-ALT-DESC;FMTTYPE=text/html:All Ages This one is a hoot! This is a very contrasting illustrative style painting. Created with simple black-and-white The focus of this painting is folk art and illustration. Acrylic paint has many uses from fine art masterpieces to fort craft-style images like this. This painting goes out to all my fellow night owls! Sign up online at https://colquittcountyarts.com/monthly-workshop-registration/
LOCATION:Colquitt County Arts Center 401 7th Avenue S.W. Moultrie\, GA 31768
UID:e.570.11219
SEQUENCE:3
DTSTAMP:20260424T164517Z
URL:http://business.moultriechamber.com/events/details/guided-painting-night-owl-11219
END:VEVENT

END:VCALENDAR
