BEGIN:VCALENDAR
VERSION:2.0
PRODID:-//ChamberMaster//Event Calendar 2.0//EN
METHOD:PUBLISH
X-PUBLISHED-TTL:P3D
REFRESH-INTERVAL:P3D
CALSCALE:GREGORIAN
BEGIN:VEVENT
DTSTART:20201110T220000Z
DTEND:20201110T234500Z
X-MICROSOFT-CDO-ALLDAYEVENT:FALSE
SUMMARY:Guided Painting: Moonlit Pair
DESCRIPTION:Moonlit Pair Tuesday\, November 10th 5:00 pm   6:45 pm $35 all supplies provided All Ages This design brings coziness and love to the cold season. These little lovebirds sitting on a branch will be super enjoyable To create. In the background of this painting is a technique of color blending that adds a glow to the center which is a representation of the moon this technique is a fun one to learn and can be repeated in several paintings in different ways. Don't let the birds intimidate you the instructor has a simple way to break them down shape by shape. Come show some love. Sign up online: https://colquittcountyarts.com/monthly-workshop-registration/
X-ALT-DESC;FMTTYPE=text/html:Moonlit Pair Tuesday\, November 10th 5:00 pm &ndash\; 6:45 pm $35 all supplies provided All Ages This design brings coziness and love to the cold season. These little lovebirds sitting on a branch will be super enjoyable To create. In the background of this painting is a technique of color blending that adds a glow to the center which is a representation of the moon this technique is a fun one to learn and can be repeated in several paintings in different ways. Don&rsquo\;t let the birds intimidate you the instructor has a simple way to break them down shape by shape. Come show some love. Sign up online: https://colquittcountyarts.com/monthly-workshop-registration/
LOCATION:Colquitt County Arts Center 401 7th Avenue S.W. Moultrie\, GA 31768
UID:e.570.11223
SEQUENCE:3
DTSTAMP:20260424T163021Z
URL:http://business.moultriechamber.com/events/details/guided-painting-moonlit-pair-11223
END:VEVENT

END:VCALENDAR
