BEGIN:VCALENDAR
VERSION:2.0
PRODID:-//ChamberMaster//Event Calendar 2.0//EN
METHOD:PUBLISH
X-PUBLISHED-TTL:P3D
REFRESH-INTERVAL:P3D
CALSCALE:GREGORIAN
BEGIN:VEVENT
DTSTART:20201202T220000Z
DTEND:20201202T234500Z
X-MICROSOFT-CDO-ALLDAYEVENT:FALSE
SUMMARY:Guided Painting: Evening Trees
DESCRIPTION:This painting features beautiful fall tunes and silhouettes of bare trees. A beautiful mood setter\, the skills that are focused on in this workshop will be detail contrast and color blending. Wednesday\, December 2nd 5:00 pm - 6:45 pm $35 all supplies provided All Ages Instructor Rio Davies Sign up online: https://colquittcountyarts.com/monthly-workshop-registration/
X-ALT-DESC;FMTTYPE=text/html:This painting features beautiful fall tunes and silhouettes of bare trees. A beautiful mood setter\, the skills that are focused on in this workshop will be detail contrast and color blending. Wednesday\, December 2nd 5:00 pm - 6:45 pm $35 all supplies provided All Ages Instructor Rio Davies Sign up online: https://colquittcountyarts.com/monthly-workshop-registration/
LOCATION:Colquitt County Arts Center 401 7th Avenue S.W. Moultrie\, GA 31768
UID:e.570.11234
SEQUENCE:3
DTSTAMP:20260424T151956Z
URL:http://business.moultriechamber.com/events/details/guided-painting-evening-trees-11234
END:VEVENT

END:VCALENDAR
