BEGIN:VCALENDAR
VERSION:2.0
PRODID:-//ChamberMaster//Event Calendar 2.0//EN
METHOD:PUBLISH
X-PUBLISHED-TTL:P3D
REFRESH-INTERVAL:P3D
CALSCALE:GREGORIAN
BEGIN:VEVENT
DTSTART:20201115T000000Z
DTEND:20201115T023000Z
X-MICROSOFT-CDO-ALLDAYEVENT:FALSE
SUMMARY:Groovin' in the Garden
DESCRIPTION:Groove in the Garden with the popular local band Flintlock Annie. With musical artists such as the famous Daniel Parrish\, DeAnna Verneau\, and Joseph Baltzell you won't want to miss this showcase of classic Americana. The event will be held at the Colquitt County Arts Center on Saturday\, November 14th at 7:00 pm. Tickets are available for $30 and include a BBQ plate to enjoy. Due to social distancing measures\, only 40 tickets are available for this one-night performance! Call 229-985-1922 to reserve your tickets or stop by the Colquitt County Arts Center
X-ALT-DESC;FMTTYPE=text/html:Groove in the Garden with the popular local band Flintlock Annie. With musical artists such as the famous Daniel Parrish\, DeAnna Verneau\, and Joseph Baltzell you won&rsquo\;t want to miss this showcase of classic Americana. The event will be held at the Colquitt County Arts Center on Saturday\, November 14th at 7:00 pm. Tickets are available for $30 and include a BBQ plate to enjoy. Due to social distancing measures\, only 40 tickets are available for this one-night performance! Call 229-985-1922 to reserve your tickets or stop by the Colquitt County Arts Center
LOCATION:Colquitt County Arts Center 401 7th Avenue S.W. Moultrie\, GA 31768
UID:e.570.11205
SEQUENCE:3
DTSTAMP:20260424T165221Z
URL:http://business.moultriechamber.com/events/details/groovin-in-the-garden-11205
END:VEVENT

END:VCALENDAR
