BEGIN:VCALENDAR
VERSION:2.0
PRODID:-//ChamberMaster//Event Calendar 2.0//EN
METHOD:PUBLISH
X-PUBLISHED-TTL:P3D
REFRESH-INTERVAL:P3D
CALSCALE:GREGORIAN
BEGIN:VEVENT
DTSTART:20220306T000000Z
DTEND:20220306T030000Z
X-MICROSOFT-CDO-ALLDAYEVENT:FALSE
SUMMARY:Grand Ole Opry Tribute Show
DESCRIPTION:The Moultrie Federated Guild Civic Engagement & Outreach Committee is proud to sponsor this event with the proceeds to benefit Crossroads For Her Ministry. Songs of the following artists will be featured: Patsy Cline\, Hank Williams\, George Jones\, Loretta Lynn and many more! The show will be on Saturday\, March 5th 7:00pm at the Withers Auditorium in Moultrie\, GA. Tickets are $20 and can be purchased at Everything Special\, Mashburn Printing\, and Chamber of Commerce.
X-ALT-DESC;FMTTYPE=text/html:The Moultrie Federated Guild Civic Engagement &amp\; Outreach Committee is proud to sponsor this event with the proceeds to benefit Crossroads For Her Ministry. Songs of the following artists will be featured: Patsy Cline\, Hank Williams\, George Jones\, Loretta Lynn and many more! The show will be on Saturday\, March 5th 7:00pm at the Withers Auditorium in Moultrie\, GA. Tickets are $20 and can be purchased at Everything Special\, Mashburn Printing\, and Chamber of Commerce.
LOCATION:Withers Auditorium 1600 Park Ave Moultrie GA
UID:e.570.12004
SEQUENCE:3
DTSTAMP:20260423T204920Z
URL:http://business.moultriechamber.com/events/details/grand-ole-opry-tribute-show-12004
END:VEVENT

END:VCALENDAR
