BEGIN:VCALENDAR
VERSION:2.0
PRODID:-//ChamberMaster//Event Calendar 2.0//EN
METHOD:PUBLISH
X-PUBLISHED-TTL:P3D
REFRESH-INTERVAL:P3D
CALSCALE:GREGORIAN
BEGIN:VEVENT
DTSTART:20220415T160000Z
DTEND:20220415T170000Z
X-MICROSOFT-CDO-ALLDAYEVENT:FALSE
SUMMARY:Good Friday Community Lunch & Devotional
DESCRIPTION:Join us in the Social Hall of First Baptist Moultrie for a FREE Community Lunch & Devotional on Good Friday for Business Leaders & Staff in Moultrie and Colquitt County from Noon-1pm!
X-ALT-DESC;FMTTYPE=text/html:Join us in the Social Hall of First Baptist Moultrie for a FREE Community Lunch &amp\; Devotional on Good Friday for Business Leaders &amp\; Staff in Moultrie and Colquitt County from Noon-1pm!
LOCATION:First Baptist Moultrie 400 S Main Street\, Moultrie 31768
UID:e.570.12077
SEQUENCE:3
DTSTAMP:20260423T194155Z
URL:http://business.moultriechamber.com/events/details/good-friday-community-lunch-devotional-12077
END:VEVENT

END:VCALENDAR
