BEGIN:VCALENDAR
VERSION:2.0
PRODID:-//ChamberMaster//Event Calendar 2.0//EN
METHOD:PUBLISH
X-PUBLISHED-TTL:P3D
REFRESH-INTERVAL:P3D
CALSCALE:GREGORIAN
BEGIN:VEVENT
DTSTART:20220718T143000Z
DTEND:20220718T153000Z
X-MICROSOFT-CDO-ALLDAYEVENT:FALSE
SUMMARY:Glowing Sea Creatures Paint Party
DESCRIPTION:Paint your own sea creature with UV reactive paints under the glow of black lights.
X-ALT-DESC;FMTTYPE=text/html:Paint your own sea creature with UV reactive paints under the glow of black lights.
LOCATION:Moultrie-Colquitt Library System 504 5th Street\, SE Moultrie\, Ga.
UID:e.570.12944
SEQUENCE:3
DTSTAMP:20260423T172152Z
URL:http://business.moultriechamber.com/events/details/glowing-sea-creatures-paint-party-12944
END:VEVENT

END:VCALENDAR
