BEGIN:VCALENDAR
VERSION:2.0
PRODID:-//ChamberMaster//Event Calendar 2.0//EN
METHOD:PUBLISH
X-PUBLISHED-TTL:P3D
REFRESH-INTERVAL:P3D
CALSCALE:GREGORIAN
BEGIN:VEVENT
DTSTART:20201116T221500Z
DTEND:20201116T233000Z
X-MICROSOFT-CDO-ALLDAYEVENT:FALSE
SUMMARY:Glass Painting – Forest Reflections
DESCRIPTION:Light up the night with your own hand-painted candle holder. Each participant will receive one candle holder\, full instructions\, and a demonstration. All supplies provided. Monday\, November 16 5:15 pm   6:30 pm All Ages $40 Instructor Rio Davies Sign up online: https://colquittcountyarts.com/monthly-workshop-registration/
X-ALT-DESC;FMTTYPE=text/html:Light up the night with your own hand-painted candle holder. Each participant will receive one candle holder\, full instructions\, and a demonstration. All supplies provided. Monday\, November 16 5:15 pm &ndash\; 6:30 pm All Ages $40 Instructor Rio Davies Sign up online: https://colquittcountyarts.com/monthly-workshop-registration/
LOCATION:Colquitt County Arts Center 401 7th Avenue S.W. Moultrie\, GA 31768
UID:e.570.11224
SEQUENCE:3
DTSTAMP:20260424T163757Z
URL:http://business.moultriechamber.com/events/details/glass-painting-forest-reflections-11224
END:VEVENT

END:VCALENDAR
