BEGIN:VCALENDAR
VERSION:2.0
PRODID:-//ChamberMaster//Event Calendar 2.0//EN
METHOD:PUBLISH
X-PUBLISHED-TTL:P3D
REFRESH-INTERVAL:P3D
CALSCALE:GREGORIAN
BEGIN:VEVENT
DTSTART:20210621T140000Z
DTEND:20210625T180000Z
X-MICROSOFT-CDO-ALLDAYEVENT:FALSE
SUMMARY:Girls Just Wanna Have Fun- Fairy Tales
DESCRIPTION:It's all about girls this week. Come enjoy a variety of projects with a wide range of mediums\, and of course lots of glitter! All things floral and flitter in this fairytale-themed week. Something just for her this week! Deadline to sign up: Thursday\, June 17. All camps are for ages 3   8 Instructor: Leah Gaines
X-ALT-DESC;FMTTYPE=text/html:It&rsquo\;s all about girls this week. Come enjoy a variety of projects with a wide range of mediums\, and of course lots of glitter! All things floral and flitter in this fairytale-themed week. Something just for her this week! Deadline to sign up: Thursday\, June 17. All camps are for ages 3 &ndash\; 8 Instructor: Leah Gaines
LOCATION:Colquitt County Arts Center 401 7th Avenue S.W. Moultrie\, GA 31768
UID:e.570.11354
SEQUENCE:3
DTSTAMP:20260424T082603Z
URL:http://business.moultriechamber.com/events/details/girls-just-wanna-have-fun-fairy-tales-11354
END:VEVENT

END:VCALENDAR
