BEGIN:VCALENDAR
VERSION:2.0
PRODID:-//ChamberMaster//Event Calendar 2.0//EN
METHOD:PUBLISH
X-PUBLISHED-TTL:P3D
REFRESH-INTERVAL:P3D
CALSCALE:GREGORIAN
BEGIN:VEVENT
DTSTART:20180811T173000Z
DTEND:20180811T203000Z
X-MICROSOFT-CDO-ALLDAYEVENT:FALSE
SUMMARY:Game Day for Adults
DESCRIPTION:Join fellow game lovers for an afternoon of fun. Play Hand & Foot\, Scrabble\, Rummikub\, Uno\, Checkers and more! Stop by and get in the game!
X-ALT-DESC;FMTTYPE=text/html:Join fellow game lovers for an afternoon of fun. Play Hand &amp\; Foot\, Scrabble\, Rummikub\, Uno\, Checkers and more! Stop by and get in the game!
LOCATION:Moultrie Library\, 225 S. Main St\, Moultrie (Temporary Location)
UID:e.570.9366
SEQUENCE:3
DTSTAMP:20260426T032324Z
URL:http://business.moultriechamber.com/events/details/game-day-for-adults-08-11-2018-9366
END:VEVENT

END:VCALENDAR
