BEGIN:VCALENDAR
VERSION:2.0
PRODID:-//ChamberMaster//Event Calendar 2.0//EN
METHOD:PUBLISH
X-PUBLISHED-TTL:P3D
REFRESH-INTERVAL:P3D
CALSCALE:GREGORIAN
BEGIN:VEVENT
DTSTART:20180921T223000Z
DTEND:20180922T160000Z
X-MICROSOFT-CDO-ALLDAYEVENT:FALSE
SUMMARY:Furniture Facelift
DESCRIPTION:Need motivation to tackle that small furniture project you have been putting off? Bring a piece of furniture to experiment with and learn basic techniques including: Stripping/cleaning/ faux finishes/ stenciling & stamping/ decoupage and marbleizing. Some supplies provided- bring what you may already have purchased to use for your project. Instructor Kathy Nelson
X-ALT-DESC;FMTTYPE=text/html:Need motivation to tackle that small furniture project you have been putting off? Bring a piece of furniture to experiment with and learn basic techniques including: Stripping/cleaning/ faux finishes/ stenciling &amp\; stamping/ decoupage and marbleizing. Some supplies provided- bring what you may already have purchased to use for your project. Instructor Kathy Nelson
LOCATION:Colquitt County Arts Center\, 401 7th Avenue S.W.\, Moultrie\, GA 31768
UID:e.570.9408
SEQUENCE:3
DTSTAMP:20260426T020848Z
URL:http://business.moultriechamber.com/events/details/furniture-facelift-9408
END:VEVENT

END:VCALENDAR
