BEGIN:VCALENDAR
VERSION:2.0
PRODID:-//ChamberMaster//Event Calendar 2.0//EN
METHOD:PUBLISH
X-PUBLISHED-TTL:P3D
REFRESH-INTERVAL:P3D
CALSCALE:GREGORIAN
BEGIN:VEVENT
DTSTART:20200723T220000Z
DTEND:20200723T233000Z
X-MICROSOFT-CDO-ALLDAYEVENT:FALSE
SUMMARY:Front Porch Greeter Workshop
DESCRIPTION:Thursday\, July 23rd 6:00 pm   7:30 pm $40 supplies provided Greet your visitors with an adorable stand-up snowman. Feel free to customize with different colors and sayings. Instructor: Rio Davies
X-ALT-DESC;FMTTYPE=text/html:Thursday\, July 23rd 6:00 pm &ndash\; 7:30 pm $40 supplies provided Greet your visitors with an adorable stand-up snowman. Feel free to customize with different colors and sayings. Instructor: Rio Davies
LOCATION:Colquitt County Arts Center 401 7th Avenue S.W. Moultrie\, GA 31768
UID:e.570.11164
SEQUENCE:3
DTSTAMP:20260424T211523Z
URL:http://business.moultriechamber.com/events/details/front-porch-greeter-workshop-11164
END:VEVENT

END:VCALENDAR
