BEGIN:VCALENDAR
VERSION:2.0
PRODID:-//ChamberMaster//Event Calendar 2.0//EN
METHOD:PUBLISH
X-PUBLISHED-TTL:P3D
REFRESH-INTERVAL:P3D
CALSCALE:GREGORIAN
BEGIN:VEVENT
DTSTART:20210318T210000Z
DTEND:20210318T230000Z
X-MICROSOFT-CDO-ALLDAYEVENT:FALSE
SUMMARY:Free Webinar: Legacy Planning for Farmers
DESCRIPTION:SCORE South Georgia is hosting a free webinar on planning the future of your business. Discussion includes retirement planning options\, exit strategies and leaving a legacy.
X-ALT-DESC;FMTTYPE=text/html:SCORE South Georgia is hosting a free webinar on planning the future of your business. Discussion includes retirement planning options\, exit strategies and leaving a legacy.
LOCATION:Online event
UID:e.570.11338
SEQUENCE:3
DTSTAMP:20260424T125005Z
URL:http://business.moultriechamber.com/events/details/free-webinar-legacy-planning-for-farmers-11338
END:VEVENT

END:VCALENDAR
