BEGIN:VCALENDAR
VERSION:2.0
PRODID:-//ChamberMaster//Event Calendar 2.0//EN
METHOD:PUBLISH
X-PUBLISHED-TTL:P3D
REFRESH-INTERVAL:P3D
CALSCALE:GREGORIAN
BEGIN:VEVENT
DTSTART:20210323T143000Z
DTEND:20210323T163000Z
X-MICROSOFT-CDO-ALLDAYEVENT:FALSE
SUMMARY:Free Webinar: Business Reality Check
DESCRIPTION:Are you really ready to run a business? This class explains what it really means to be a business owner.
X-ALT-DESC;FMTTYPE=text/html:Are you really ready to run a business? This class explains what it really means to be a business owner.
LOCATION:Online
UID:e.570.11335
SEQUENCE:3
DTSTAMP:20260424T113141Z
URL:http://business.moultriechamber.com/events/details/free-webinar-business-reality-check-11335
END:VEVENT

END:VCALENDAR
