BEGIN:VCALENDAR
VERSION:2.0
PRODID:-//ChamberMaster//Event Calendar 2.0//EN
METHOD:PUBLISH
X-PUBLISHED-TTL:P3D
REFRESH-INTERVAL:P3D
CALSCALE:GREGORIAN
BEGIN:VEVENT
DTSTART:20190824T140000Z
DTEND:20190824T160000Z
X-MICROSOFT-CDO-ALLDAYEVENT:FALSE
SUMMARY:FREE Open Studio for All
DESCRIPTION:Open Studio for All is a program FREE to everyone in the community\, regardless of ability. We encourage everyone over 16 years of age to gather with us\, in a casual and laid back studio setting\, to create visual arts. During each Open Studio gathering\, supplies will be provided for participants to work independently and an instructor will be on hand for more guided instruction\, if that's more to your liking. Open Studio will take place on the 2nd Thursday of each month from 4 pm   7 pm\, with additional gatherings sprinkled throughout the upcoming months. Our next Open Studio\, June 13th\, will offer independent time to work on drawings\, paintings\, or mixed media\, as well as guided instruction in those areas or in quilt making\, with Connie Fritz. Create your masterpiece or try something new and experiment with a variety of mediums. If you are interested in participating\, please register using the form below or in our office. If you are interested in sharing your talent and instructing\, give us a call. Age 16+ FREE *MUST PRE-REGISTER* at colquittcountyarts.com Supplies Provided Twice Per Month
X-ALT-DESC;FMTTYPE=text/html:Open Studio for All is a program FREE to everyone in the community\, regardless of ability. We encourage everyone over 16 years of age to gather with us\, in a casual and laid back studio setting\, to create visual arts. During each Open Studio gathering\, supplies will be provided for participants to work independently and an instructor will be on hand for more guided instruction\, if that&rsquo\;s more to your liking. Open Studio will take place on the 2nd Thursday of each month from 4 pm &ndash\; 7 pm\, with additional gatherings sprinkled throughout the upcoming months. Our next Open Studio\, June 13th\, will offer independent time to work on drawings\, paintings\, or mixed media\, as well as guided instruction in those areas or in quilt making\, with Connie Fritz. Create your masterpiece or try something new and experiment with a variety of mediums. If you are interested in participating\, please register using the form below or in our office. If you are interested in sharing your talent and instructing\, give us a call. Age 16+ FREE *MUST PRE-REGISTER* at colquittcountyarts.com Supplies Provided Twice Per Month
LOCATION:Colquitt County Arts Center
UID:e.570.9600
SEQUENCE:3
DTSTAMP:20260425T124717Z
URL:http://business.moultriechamber.com/events/details/free-open-studio-for-all-08-24-2019-9600
END:VEVENT

END:VCALENDAR
