BEGIN:VCALENDAR
VERSION:2.0
PRODID:-//ChamberMaster//Event Calendar 2.0//EN
METHOD:PUBLISH
X-PUBLISHED-TTL:P3D
REFRESH-INTERVAL:P3D
CALSCALE:GREGORIAN
BEGIN:VEVENT
DTSTART:20201215T210000Z
DTEND:20201216T000000Z
X-MICROSOFT-CDO-ALLDAYEVENT:FALSE
SUMMARY:Free Open Studio
DESCRIPTION:Funded by Georgia Council on Disabilities Pre-registration required: https://colquittcountyarts.com/event/free-open-studio-for-all-4/ The goal of Open Studio is to create a more inclusive art community by shifting people's perceptions about individuals with disabilities through gatherings to create artwork\, share experiences and talents\, and share stories as the community members get to know one another. Allowing more people access to art gatherings in our community will change people's perceptions about individuals with disabilities and will impact that population through the opportunities to create art\, through sharing artist abilities and talents\, and through the conversations that will take place at the gatherings.
X-ALT-DESC;FMTTYPE=text/html:Funded by Georgia Council on Disabilities Pre-registration required: https://colquittcountyarts.com/event/free-open-studio-for-all-4/ The goal of Open Studio is to create a more inclusive art community by shifting people&rsquo\;s perceptions about individuals with disabilities through gatherings to create artwork\, share experiences and talents\, and share stories as the community members get to know one another. Allowing more people access to art gatherings in our community will change people&rsquo\;s perceptions about individuals with disabilities and will impact that population through the opportunities to create art\, through sharing artist abilities and talents\, and through the conversations that will take place at the gatherings.
LOCATION:Colquitt County Arts Center 401 7th Avenue S.W. Moultrie\, GA 31768
UID:e.570.11230
SEQUENCE:3
DTSTAMP:20260424T151948Z
URL:http://business.moultriechamber.com/events/details/free-open-studio-12-15-2020-11230
END:VEVENT

END:VCALENDAR
