BEGIN:VCALENDAR
VERSION:2.0
PRODID:-//ChamberMaster//Event Calendar 2.0//EN
METHOD:PUBLISH
X-PUBLISHED-TTL:P3D
REFRESH-INTERVAL:P3D
CALSCALE:GREGORIAN
BEGIN:VEVENT
DTSTART:20200915T200000Z
DTEND:20200915T230000Z
X-MICROSOFT-CDO-ALLDAYEVENT:FALSE
SUMMARY:Free Open Studio
DESCRIPTION:All supplies are provided for students to use during open studio time. An instructor will be available to assist. Ages 16+ only Must pre-register at https://colquittcountyarts.com/free-open-studio-for-all/
X-ALT-DESC;FMTTYPE=text/html:All supplies are provided for students to use during open studio time. An instructor will be available to assist. Ages 16+ only Must pre-register at https://colquittcountyarts.com/free-open-studio-for-all/
LOCATION:Colquitt County Arts Center 401 7th Avenue S.W. Moultrie\, GA 31768
UID:e.570.11180
SEQUENCE:3
DTSTAMP:20260424T185333Z
URL:http://business.moultriechamber.com/events/details/free-open-studio-11180
END:VEVENT

END:VCALENDAR
