BEGIN:VCALENDAR
VERSION:2.0
PRODID:-//ChamberMaster//Event Calendar 2.0//EN
METHOD:PUBLISH
X-PUBLISHED-TTL:P3D
REFRESH-INTERVAL:P3D
CALSCALE:GREGORIAN
BEGIN:VEVENT
DTSTART:20201117T210000Z
DTEND:20201118T000000Z
X-MICROSOFT-CDO-ALLDAYEVENT:FALSE
SUMMARY:Free Open Studio
DESCRIPTION:The goal of Open Studio is to create a more inclusive art community by shifting people's perceptions about individuals with disabilities through gatherings to create artwork\, share experiences and talents\, and share stories as the community members get to know one another. Allowing more people access to art gatherings in our community will change people's perceptions about individuals with disabilities and will impact that population through the opportunities to create art\, through sharing artist abilities and talents\, and through the conversations that will take place at the gatherings.. Funded by Georgia Council on Developmental Disabilities Pre-register required online: https://colquittcountyarts.com/event/free-open-studio-for-all-4/
X-ALT-DESC;FMTTYPE=text/html:The goal of Open Studio is to create a more inclusive art community by shifting people&rsquo\;s perceptions about individuals with disabilities through gatherings to create artwork\, share experiences and talents\, and share stories as the community members get to know one another. Allowing more people access to art gatherings in our community will change people&rsquo\;s perceptions about individuals with disabilities and will impact that population through the opportunities to create art\, through sharing artist abilities and talents\, and through the conversations that will take place at the gatherings.. Funded by Georgia Council on Developmental Disabilities Pre-register required online: https://colquittcountyarts.com/event/free-open-studio-for-all-4/
LOCATION:Colquitt County Arts Center 401 7th Avenue S.W. Moultrie\, GA 31768
UID:e.570.11225
SEQUENCE:3
DTSTAMP:20260424T162946Z
URL:http://business.moultriechamber.com/events/details/free-open-studio-11-17-2020-11225
END:VEVENT

END:VCALENDAR
