BEGIN:VCALENDAR
VERSION:2.0
PRODID:-//ChamberMaster//Event Calendar 2.0//EN
METHOD:PUBLISH
X-PUBLISHED-TTL:P3D
REFRESH-INTERVAL:P3D
CALSCALE:GREGORIAN
BEGIN:VEVENT
DTSTART:20180801T160000Z
DTEND:20180817T160000Z
X-MICROSOFT-CDO-ALLDAYEVENT:FALSE
SUMMARY:Football & Cheerleading Registration
DESCRIPTION:Pee wee Flag Football ages 5-6 $50 Tiny Mite ages 7-8 $50 Mite ages 9-11 $50 Cheerleading ages 5-10 $50 Online registration is August 1-17 at moultriega.com In office registration is August 13-17 Discounts available only in office
X-ALT-DESC;FMTTYPE=text/html:Pee wee Flag Football ages 5-6 $50 Tiny Mite ages 7-8 $50 Mite ages 9-11 $50 Cheerleading ages 5-10 $50 Online registration is August 1-17 at moultriega.com In office registration is August 13-17 Discounts available only in office
LOCATION:Orientation and practice at Tommy Meredith Gym
UID:e.570.9362
SEQUENCE:3
DTSTAMP:20260426T032530Z
URL:http://business.moultriechamber.com/events/details/football-cheerleading-registration-9362
END:VEVENT

END:VCALENDAR
